BEGIN:VCALENDAR
VERSION:2.0
PRODID:-//Museu de Badalona - ECPv6.7.0//NONSGML v1.0//EN
CALSCALE:GREGORIAN
METHOD:PUBLISH
X-WR-CALNAME:Museu de Badalona
X-ORIGINAL-URL:https://www.museudebadalona.cat
X-WR-CALDESC:Esdeveniments per Museu de Badalona
REFRESH-INTERVAL;VALUE=DURATION:PT1H
X-Robots-Tag:noindex
X-PUBLISHED-TTL:PT1H
BEGIN:VTIMEZONE
TZID:Europe/Madrid
BEGIN:DAYLIGHT
TZOFFSETFROM:+0100
TZOFFSETTO:+0200
TZNAME:CEST
DTSTART:20260329T010000
END:DAYLIGHT
BEGIN:STANDARD
TZOFFSETFROM:+0200
TZOFFSETTO:+0100
TZNAME:CET
DTSTART:20261025T010000
END:STANDARD
END:VTIMEZONE
BEGIN:VEVENT
DTSTART;TZID=Europe/Madrid:20260425T110000
DTEND;TZID=Europe/Madrid:20260425T140000
DTSTAMP:20260422T125601
CREATED:20260410T104740Z
LAST-MODIFIED:20260410T105704Z
UID:95596-1777114800-1777125600@www.museudebadalona.cat
SUMMARY:Legio
DESCRIPTION:Els exercits romans construïen campaments comparables a les ciutats encara que només fos per passar-hi una nit\, els castra. La planificació urbanística d’aquests establiments\, que podien arribar a allotjar legions senceres\, faria que\, sobretot en terres de frontera\, alguns campaments acabessin esdevenint ciutats. \nEls encarregats de construir-los triaven l’indret perfecte\, hi construïen les vies principals i\, al centre\, hi feien el pretori\, nom que tenia\, al començament\,  la tenda dels generals romans als campaments. \nA prop d’aquesta tenda central se situaven les tropes d’elit de l’exèrcit\, com la cavalleria.  Mentrestant\, la resta de soldats\, estaven repartits pel campament organitzats en contubernis. Aquesta era la unitat més petita de l’exèrcit i estava formada per 8 soldats\, sota les ordres del seu centurió. \nEn aquesta demostració coneixerem com es construïen els castra\, com era la vida d’un legionari i com es preparaven per entrar en combat. \n 
URL:https://www.museudebadalona.cat/esdeveniment/legio/
LOCATION:Plaça de Correus\, Pl. Assemblea de Catalunya\, s/n\, Badalona\, Barcelona\, 08911\, Espanya
CATEGORIES:Espectacles Magna Celebratio,Totes les activitats
ATTACH;FMTTYPE=image/jpeg:https://www.museudebadalona.cat/wp-content/uploads/destacat-reconstruccio.jpg
END:VEVENT
BEGIN:VEVENT
DTSTART;TZID=Europe/Madrid:20260425T170000
DTEND;TZID=Europe/Madrid:20260425T200000
DTSTAMP:20260422T125601
CREATED:20260410T110114Z
LAST-MODIFIED:20260410T110114Z
UID:95623-1777136400-1777147200@www.museudebadalona.cat
SUMMARY:Legio
DESCRIPTION:Els exercits romans construïen campaments comparables a les ciutats encara que només fos per passar-hi una nit\, els castra. La planificació urbanística d’aquests establiments\, que podien arribar a allotjar legions senceres\, faria que\, sobretot en terres de frontera\, alguns campaments acabessin esdevenint ciutats. \nEls encarregats de construir-los triaven l’indret perfecte\, hi construïen les vies principals i\, al centre\, hi feien el pretori\, nom que tenia\, al començament\,  la tenda dels generals romans als campaments. \nA prop d’aquesta tenda central se situaven les tropes d’elit de l’exèrcit\, com la cavalleria.  Mentrestant\, la resta de soldats\, estaven repartits pel campament organitzats en contubernis. Aquesta era la unitat més petita de l’exèrcit i estava formada per 8 soldats\, sota les ordres del seu centurió. \nEn aquesta demostració coneixerem com es construïen els castra\, com era la vida d’un legionari i com es preparaven per entrar en combat. \n 
URL:https://www.museudebadalona.cat/esdeveniment/legio-2/
LOCATION:Plaça de Correus\, Pl. Assemblea de Catalunya\, s/n\, Badalona\, Barcelona\, 08911\, Espanya
CATEGORIES:Espectacles Magna Celebratio,Totes les activitats
ATTACH;FMTTYPE=image/jpeg:https://www.museudebadalona.cat/wp-content/uploads/destacat-reconstruccio.jpg
END:VEVENT
BEGIN:VEVENT
DTSTART;TZID=Europe/Madrid:20260426T110000
DTEND;TZID=Europe/Madrid:20260426T140000
DTSTAMP:20260422T125601
CREATED:20260410T110625Z
LAST-MODIFIED:20260410T110625Z
UID:95633-1777201200-1777212000@www.museudebadalona.cat
SUMMARY:Legio
DESCRIPTION:Els exercits romans construïen campaments comparables a les ciutats encara que només fos per passar-hi una nit\, els castra. La planificació urbanística d’aquests establiments\, que podien arribar a allotjar legions senceres\, faria que\, sobretot en terres de frontera\, alguns campaments acabessin esdevenint ciutats. \nEls encarregats de construir-los triaven l’indret perfecte\, hi construïen les vies principals i\, al centre\, hi feien el pretori\, nom que tenia\, al començament\,  la tenda dels generals romans als campaments. \nA prop d’aquesta tenda central se situaven les tropes d’elit de l’exèrcit\, com la cavalleria.  Mentrestant\, la resta de soldats\, estaven repartits pel campament organitzats en contubernis. Aquesta era la unitat més petita de l’exèrcit i estava formada per 8 soldats\, sota les ordres del seu centurió. \nEn aquesta demostració coneixerem com es construïen els castra\, com era la vida d’un legionari i com es preparaven per entrar en combat. \n 
URL:https://www.museudebadalona.cat/esdeveniment/legio-3/
LOCATION:Plaça de Correus\, Pl. Assemblea de Catalunya\, s/n\, Badalona\, Barcelona\, 08911\, Espanya
CATEGORIES:Espectacles Magna Celebratio,Totes les activitats
ATTACH;FMTTYPE=image/jpeg:https://www.museudebadalona.cat/wp-content/uploads/destacat-reconstruccio.jpg
END:VEVENT
END:VCALENDAR