BEGIN:VCALENDAR
VERSION:2.0
PRODID:-//Museu de Badalona - ECPv6.7.0//NONSGML v1.0//EN
CALSCALE:GREGORIAN
METHOD:PUBLISH
X-WR-CALNAME:Museu de Badalona
X-ORIGINAL-URL:https://www.museudebadalona.cat
X-WR-CALDESC:Esdeveniments per Museu de Badalona
REFRESH-INTERVAL;VALUE=DURATION:PT1H
X-Robots-Tag:noindex
X-PUBLISHED-TTL:PT1H
BEGIN:VTIMEZONE
TZID:Europe/Madrid
BEGIN:DAYLIGHT
TZOFFSETFROM:+0100
TZOFFSETTO:+0200
TZNAME:CEST
DTSTART:20240331T010000
END:DAYLIGHT
BEGIN:STANDARD
TZOFFSETFROM:+0200
TZOFFSETTO:+0100
TZNAME:CET
DTSTART:20241027T010000
END:STANDARD
BEGIN:DAYLIGHT
TZOFFSETFROM:+0100
TZOFFSETTO:+0200
TZNAME:CEST
DTSTART:20250330T010000
END:DAYLIGHT
BEGIN:STANDARD
TZOFFSETFROM:+0200
TZOFFSETTO:+0100
TZNAME:CET
DTSTART:20251026T010000
END:STANDARD
BEGIN:DAYLIGHT
TZOFFSETFROM:+0100
TZOFFSETTO:+0200
TZNAME:CEST
DTSTART:20260329T010000
END:DAYLIGHT
BEGIN:STANDARD
TZOFFSETFROM:+0200
TZOFFSETTO:+0100
TZNAME:CET
DTSTART:20261025T010000
END:STANDARD
END:VTIMEZONE
BEGIN:VEVENT
DTSTART;TZID=Europe/Madrid:20260208T110000
DTEND;TZID=Europe/Madrid:20260208T123000
DTSTAMP:20260423T060633
CREATED:20260204T154914Z
LAST-MODIFIED:20260204T154914Z
UID:94176-1770548400-1770553800@www.museudebadalona.cat
SUMMARY:Visita guiada al monestir de Sant Jeroni de la Murtra
DESCRIPTION:Descobrirem aquesta magnífica obra del gòtic català en què destaca el claustre del segle XV\, amb els capitells i les claus de volta ricament esculpides amb retrats de personatges il·lustres que van contribuir a la prosperitat del monestir. També es visiten el refetor i les restes de l’església. \nPreu: 5\,93 €. Places limitades. \nL’entrada és gratuïta pels menors de 7 anys però és imprescindible que en cas d’anar acompanyats de menors d’edat ens ho feu saber al següent correu: info@museudebadalona.cat \nLloc de trobada: porta del monestir. \nPer a visites en grup\, és imprescindible contactar amb el Museu: 934 644 911\n\n 
URL:https://www.museudebadalona.cat/esdeveniment/visita-guiada-al-monestir-de-sant-jeroni-de-la-murtra-17/
LOCATION:Monestir de Sant Jeroni de la Murtra\, Camí del monestir\, s/n\, Badalona\, Barcelona\, 08917\, Espanya
CATEGORIES:Totes les activitats,Visites guiades
ATTACH;FMTTYPE=image/jpeg:https://www.museudebadalona.cat/wp-content/uploads/Sant-Jeroni1.jpg
GEO:41.470033884424;2.2208933850639
X-APPLE-STRUCTURED-LOCATION;VALUE=URI;X-ADDRESS=Monestir de Sant Jeroni de la Murtra Camí del monestir s/n Badalona Barcelona 08917 Espanya;X-APPLE-RADIUS=500;X-TITLE=Camí del monestir\, s/n:geo:2.2208933850639,41.470033884424
END:VEVENT
BEGIN:VEVENT
DTSTART;TZID=Europe/Madrid:20251214T110000
DTEND;TZID=Europe/Madrid:20251214T123000
DTSTAMP:20260423T060633
CREATED:20250904T153625Z
LAST-MODIFIED:20251016T100334Z
UID:89952-1765710000-1765715400@www.museudebadalona.cat
SUMMARY:Visita guiada al monestir de Sant Jeroni de la Murtra
DESCRIPTION:Descobrirem aquesta magnífica obra del gòtic català en què destaca el claustre del segle XV\, amb els capitells i les claus de volta ricament esculpides amb retrats de personatges il·lustres que van contribuir a la prosperitat del monestir. També es visiten el refetor i les restes de l’església. \nPreu: 5\,93 €. Places limitades. \nL’entrada és gratuïta pels menors de 7 anys però és imprescindible que en cas d’anar acompanyats de menors d’edat ens ho feu saber al següent correu: info@museudebadalona.cat \nLloc de trobada: porta del monestir. \nPer a visites en grup\, és imprescindible contactar amb el Museu: 934 644 911\n\n 
URL:https://www.museudebadalona.cat/esdeveniment/visita-guiada-al-monestir-de-sant-jeroni-de-la-murtra-16/
LOCATION:Monestir de Sant Jeroni de la Murtra\, Camí del monestir\, s/n\, Badalona\, Barcelona\, 08917\, Espanya
CATEGORIES:Totes les activitats,Visites guiades
ATTACH;FMTTYPE=image/jpeg:https://www.museudebadalona.cat/wp-content/uploads/Sant-Jeroni1.jpg
GEO:41.470033884424;2.2208933850639
X-APPLE-STRUCTURED-LOCATION;VALUE=URI;X-ADDRESS=Monestir de Sant Jeroni de la Murtra Camí del monestir s/n Badalona Barcelona 08917 Espanya;X-APPLE-RADIUS=500;X-TITLE=Camí del monestir\, s/n:geo:2.2208933850639,41.470033884424
END:VEVENT
BEGIN:VEVENT
DTSTART;TZID=Europe/Madrid:20251019T110000
DTEND;TZID=Europe/Madrid:20251019T123000
DTSTAMP:20260423T060633
CREATED:20250904T153031Z
LAST-MODIFIED:20251016T095742Z
UID:89942-1760871600-1760877000@www.museudebadalona.cat
SUMMARY:Visita guiada al monestir de Sant Jeroni de la Murtra
DESCRIPTION:Descobrirem aquesta magnífica obra del gòtic català en què destaca el claustre del segle XV\, amb els capitells i les claus de volta ricament esculpides amb retrats de personatges il·lustres que van contribuir a la prosperitat del monestir. També es visiten el refetor i les restes de l’església. \nPreu: 5\,93 €. Places limitades. \nL’entrada és gratuïta pels menors de 7 anys però és imprescindible que en cas d’anar acompanyats de menors d’edat ens ho feu saber al següent correu: info@museudebadalona.cat \nLloc de trobada: porta del monestir. \nPer a visites en grup\, és imprescindible contactar amb el Museu: 934 644 911\n\n 
URL:https://www.museudebadalona.cat/esdeveniment/visita-guiada-al-monestir-de-sant-jeroni-de-la-murtra-15/
LOCATION:Monestir de Sant Jeroni de la Murtra\, Camí del monestir\, s/n\, Badalona\, Barcelona\, 08917\, Espanya
CATEGORIES:Totes les activitats,Visites guiades
ATTACH;FMTTYPE=image/jpeg:https://www.museudebadalona.cat/wp-content/uploads/Sant-Jeroni1.jpg
GEO:41.470033884424;2.2208933850639
X-APPLE-STRUCTURED-LOCATION;VALUE=URI;X-ADDRESS=Monestir de Sant Jeroni de la Murtra Camí del monestir s/n Badalona Barcelona 08917 Espanya;X-APPLE-RADIUS=500;X-TITLE=Camí del monestir\, s/n:geo:2.2208933850639,41.470033884424
END:VEVENT
BEGIN:VEVENT
DTSTART;TZID=Europe/Madrid:20240512T110000
DTEND;TZID=Europe/Madrid:20240512T123000
DTSTAMP:20260423T060633
CREATED:20240118T155728Z
LAST-MODIFIED:20240509T104415Z
UID:79017-1715511600-1715517000@www.museudebadalona.cat
SUMMARY:Visita guiada al monestir de Sant Jeroni de la Murtra
DESCRIPTION:Descobrirem aquesta magnífica obra del gòtic català en què destaca el claustre del segle XV\, amb els capitells i les claus de volta ricament esculpides amb retrats de personatges il·lustres que van contribuir a la prosperitat del monestir. També es visiten el refetor i les restes de l’església. \nPreu: 5\,93 €. Places limitades. \nL’entrada és gratuïta pels menors de 7 anys però és imprescindible que en cas d’anar acompanyats de menors d’edat ens ho feu saber al següent correu: info@museudebadalona.cat \nLloc de trobada: porta del monestir. \nPer a visites en grup\, és imprescindible contactar amb el Museu: 934 644 911\n\n 
URL:https://www.museudebadalona.cat/esdeveniment/visita-guiada-al-monestir-de-sant-jeroni-de-la-murtra-14/
LOCATION:Monestir de Sant Jeroni de la Murtra\, Camí del monestir\, s/n\, Badalona\, Barcelona\, 08917\, Espanya
CATEGORIES:Totes les activitats,Visites guiades
ATTACH;FMTTYPE=image/jpeg:https://www.museudebadalona.cat/wp-content/uploads/Sant-Jeroni1.jpg
GEO:41.470033884424;2.2208933850639
X-APPLE-STRUCTURED-LOCATION;VALUE=URI;X-ADDRESS=Monestir de Sant Jeroni de la Murtra Camí del monestir s/n Badalona Barcelona 08917 Espanya;X-APPLE-RADIUS=500;X-TITLE=Camí del monestir\, s/n:geo:2.2208933850639,41.470033884424
END:VEVENT
END:VCALENDAR