BEGIN:VCALENDAR
VERSION:2.0
PRODID:-//Museu de Badalona - ECPv6.7.0//NONSGML v1.0//EN
CALSCALE:GREGORIAN
METHOD:PUBLISH
X-ORIGINAL-URL:https://www.museudebadalona.cat/es/
X-WR-CALDESC:Eventos para Museu de Badalona
REFRESH-INTERVAL;VALUE=DURATION:PT1H
X-Robots-Tag:noindex
X-PUBLISHED-TTL:PT1H
BEGIN:VTIMEZONE
TZID:Europe/Madrid
BEGIN:DAYLIGHT
TZOFFSETFROM:+0100
TZOFFSETTO:+0200
TZNAME:CEST
DTSTART:20260329T010000
END:DAYLIGHT
BEGIN:STANDARD
TZOFFSETFROM:+0200
TZOFFSETTO:+0100
TZNAME:CET
DTSTART:20261025T010000
END:STANDARD
END:VTIMEZONE
BEGIN:VEVENT
DTSTART;TZID=Europe/Madrid:20260425T110000
DTEND;TZID=Europe/Madrid:20260425T140000
DTSTAMP:20260422T102840
CREATED:20260410T071400Z
LAST-MODIFIED:20260410T103008Z
UID:70430-1777114800-1777125600@www.museudebadalona.cat
SUMMARY:Gladiator
DESCRIPTION:Los gladiadores eran los luchadores de los juegos públicos en Roma. Estos eventos que\, originariamente\, eran ofrendas privadas en honor de un difunto el día de su funeral\, se acabaron convirtiendo en espectáculos masivos que gozaron de una gran popularidad entre los romanos. \nEn este espectáculo\, conoceremos cómo era la vida de estos luchadores y viviremos\, en directo\, algunas exhibiciones de combate. \nA cargo de Barcino Oriens. \n  \n \nFotos: Montserrat Enero
URL:https://www.museudebadalona.cat/es/esdeveniment/gladiator-5/
LOCATION:Plaça Font i Cussó\, Pl. Font i Cussó\, Badalona\, Barcelona\, 08911\, Spain
CATEGORIES:Espectáculos Magna Celebratio,Todas las actividades
ATTACH;FMTTYPE=image/jpeg:https://www.museudebadalona.cat/wp-content/uploads/GLADIATOR-23.jpg
END:VEVENT
BEGIN:VEVENT
DTSTART;TZID=Europe/Madrid:20260425T170000
DTEND;TZID=Europe/Madrid:20260425T200000
DTSTAMP:20260422T102840
CREATED:20260410T103340Z
LAST-MODIFIED:20260410T103340Z
UID:95573-1777136400-1777147200@www.museudebadalona.cat
SUMMARY:Gladiator
DESCRIPTION:Los gladiadores eran los luchadores de los juegos públicos en Roma. Estos eventos que\, originariamente\, eran ofrendas privadas en honor de un difunto el día de su funeral\, se acabaron convirtiendo en espectáculos masivos que gozaron de una gran popularidad entre los romanos. \nEn este espectáculo\, conoceremos cómo era la vida de estos luchadores y viviremos\, en directo\, algunas exhibiciones de combate. \nA cargo de Barcino Oriens. \n  \n \nFotos: Montserrat Enero
URL:https://www.museudebadalona.cat/es/esdeveniment/gladiator-6/
LOCATION:Plaça Font i Cussó\, Pl. Font i Cussó\, Badalona\, Barcelona\, 08911\, Spain
CATEGORIES:Espectáculos Magna Celebratio,Todas las actividades
ATTACH;FMTTYPE=image/jpeg:https://www.museudebadalona.cat/wp-content/uploads/GLADIATOR-23.jpg
END:VEVENT
BEGIN:VEVENT
DTSTART;TZID=Europe/Madrid:20260426T110000
DTEND;TZID=Europe/Madrid:20260426T140000
DTSTAMP:20260422T102840
CREATED:20260410T104020Z
LAST-MODIFIED:20260410T104020Z
UID:95586-1777201200-1777212000@www.museudebadalona.cat
SUMMARY:Gladiator
DESCRIPTION:Los gladiadores eran los luchadores de los juegos públicos en Roma. Estos eventos que\, originariamente\, eran ofrendas privadas en honor de un difunto el día de su funeral\, se acabaron convirtiendo en espectáculos masivos que gozaron de una gran popularidad entre los romanos. \nEn este espectáculo\, conoceremos cómo era la vida de estos luchadores y viviremos\, en directo\, algunas exhibiciones de combate. \nA cargo de Barcino Oriens. \n  \n \nFotos: Montserrat Enero
URL:https://www.museudebadalona.cat/es/esdeveniment/gladiator-7/
LOCATION:Plaça Font i Cussó\, Pl. Font i Cussó\, Badalona\, Barcelona\, 08911\, Spain
CATEGORIES:Espectáculos Magna Celebratio,Todas las actividades
ATTACH;FMTTYPE=image/jpeg:https://www.museudebadalona.cat/wp-content/uploads/GLADIATOR-23.jpg
END:VEVENT
END:VCALENDAR