BEGIN:VCALENDAR
VERSION:2.0
PRODID:-//Museu de Badalona - ECPv6.7.0//NONSGML v1.0//EN
CALSCALE:GREGORIAN
METHOD:PUBLISH
X-WR-CALNAME:Museu de Badalona
X-ORIGINAL-URL:https://www.museudebadalona.cat/es/
X-WR-CALDESC:Eventos para Museu de Badalona
REFRESH-INTERVAL;VALUE=DURATION:PT1H
X-Robots-Tag:noindex
X-PUBLISHED-TTL:PT1H
BEGIN:VTIMEZONE
TZID:Europe/Madrid
BEGIN:DAYLIGHT
TZOFFSETFROM:+0100
TZOFFSETTO:+0200
TZNAME:CEST
DTSTART:20260329T010000
END:DAYLIGHT
BEGIN:STANDARD
TZOFFSETFROM:+0200
TZOFFSETTO:+0100
TZNAME:CET
DTSTART:20261025T010000
END:STANDARD
END:VTIMEZONE
BEGIN:VEVENT
DTSTART;TZID=Europe/Madrid:20260516T190000
DTEND;TZID=Europe/Madrid:20260517T010000
DTSTAMP:20260422T235539
CREATED:20260319T094244Z
LAST-MODIFIED:20260319T114922Z
UID:86426-1778958000-1778979600@www.museudebadalona.cat
SUMMARY:La Noche de los Museos. Puertas abiertas a la ciudad romana de Baetulo
DESCRIPTION:El Museo de Badalona se suma a la celebración de la Noche de los Museos\, uno de los actos más populares que se organizan con motivo de la celebración del Día Internacional de los Museos (18 de mayo). \nDesde las 7 de la tarde y hasta la 1 h de la madrugada abrimos las puertas de los espacios museizados de la ciudad romana de Baetulo y le invitamos a pasearse de una manera diferente\, con calma y sin prisas\, aprovechando esta singular fiesta del patrimonio por descubrir el impresionante legado romano que se conserva en nuestra ciudad. \nEste año se podrán ver gratuitamente el espacio Termas-Decumanus\, el Jardín de Quint Licini\, la Casa de los Delfines y la Casa de la Hiedra. \nEntrada libre con aforo limitado. \n  \n 
URL:https://www.museudebadalona.cat/es/esdeveniment/la-noche-de-los-museos2026/
LOCATION:Museo de Badalona\, Pl. Assemblea de Catalunya\, 1\, Badalona\, Barcelona\, 08911\, Spain
CATEGORIES:La Nit dels Museus,La Noche de los Museos,Todas las actividades
ATTACH;FMTTYPE=image/jpeg:https://www.museudebadalona.cat/wp-content/uploads/museu-nit.jpg
END:VEVENT
END:VCALENDAR