BEGIN:VCALENDAR
VERSION:2.0
PRODID:-//Museu de Badalona - ECPv6.7.0//NONSGML v1.0//EN
CALSCALE:GREGORIAN
METHOD:PUBLISH
X-ORIGINAL-URL:https://www.museudebadalona.cat/es/
X-WR-CALDESC:Eventos para Museu de Badalona
REFRESH-INTERVAL;VALUE=DURATION:PT1H
X-Robots-Tag:noindex
X-PUBLISHED-TTL:PT1H
BEGIN:VTIMEZONE
TZID:Europe/Madrid
BEGIN:DAYLIGHT
TZOFFSETFROM:+0100
TZOFFSETTO:+0200
TZNAME:CEST
DTSTART:20260329T010000
END:DAYLIGHT
BEGIN:STANDARD
TZOFFSETFROM:+0200
TZOFFSETTO:+0100
TZNAME:CET
DTSTART:20261025T010000
END:STANDARD
END:VTIMEZONE
BEGIN:VEVENT
DTSTART;TZID=Europe/Madrid:20260521T190000
DTEND;TZID=Europe/Madrid:20260926T140000
DTSTAMP:20260422T230047
CREATED:20260122T153329Z
LAST-MODIFIED:20260416T120100Z
UID:93922-1779390000-1790431200@www.museudebadalona.cat
SUMMARY:Exposición: Un nuevo futuro\, una nueva esperanza.
DESCRIPTION:Hace ya 50 años\, la muerte del general Franco abría una nueva época en nuestro país resultado de la voluntad de amplios sectores de la ciudadanía de recuperar derechos y libertades a la vez que dotarse de representación política y de instrumentos democráticos de gobierno. Se empezaba así a andar\, no sin problemas y tensiones\, hacia una nueva sociedad. \nEsta época\, ubicada entre los años 1976 y 1978\, representó un momento de gran actividad a todos los niveles. La gente quería que su voz fuera escuchada y esto se materializó de las formas más diversas. Movimientos vecinales\, plataformas reivindicativas\, sindicatos\, partidos políticos\, asociaciones culturales o deportivas\, querían tomar parte en el diseño de una sociedad y\, también\, de unas ciudades democráticas y modernas.\nBadalona por sus circunstancias socioeconómicas y demográficas es un buen ejemplo para explicar el dinamismo propio de este momento trascendental en nuestra historia reciente\, en el que se dieron sus primeros pasos hacia la recuperación de la democracia. Una época que representaba después de muchos años un nuevo futuro y una nueva esperanza. \nEsta exposición está vinculada al proyecto “Memoria en Xarxa”\, que se impulsa desde la Xarxa de Museus Locals de la Diputació de Barcelona y produce exposiciones dispersas en el territorio\, entorno a determinados hechos históricos que señalan a los museos como depositarios de un legado cultural común. \nEntrada libre. \n  \n \n  \n  \n  \n 
URL:https://www.museudebadalona.cat/es/esdeveniment/exposicion-un-nuevo-futuro-una-nueva-esperanza-la-transicion-democratica-en-badalona-1976-1978/
LOCATION:Museo de Badalona\, Pl. Assemblea de Catalunya\, 1\, Badalona\, Barcelona\, 08911\, Spain
CATEGORIES:Exposiciones,Todas las actividades
ATTACH;FMTTYPE=image/jpeg:https://www.museudebadalona.cat/wp-content/uploads/xxss_1200x1200_els-primers-passos_Badalona.jpg
END:VEVENT
BEGIN:VEVENT
DTSTART;TZID=Europe/Madrid:20260607T103000
DTEND;TZID=Europe/Madrid:20260607T120000
DTSTAMP:20260422T230047
CREATED:20260116T132446Z
LAST-MODIFIED:20260116T132446Z
UID:93775-1780828200-1780833600@www.museudebadalona.cat
SUMMARY:Visita guiada a la Casa de los Delfines y a la Casa de la Hiedra 10:30 h
DESCRIPTION:Visita guiada a las dos casas patricias musealizadas de la ciudad romana de Baetulo\, la Casa de los Delfines y la Casa de la Hiedra\, que permite descubrir cómo vivían las élites de la ciudad de finales del siglo I a.C.\, enriquecidas gracias a la producción y comercialización del vino. \nDe la Casa de los Delfines se conservan diversas estancias situadas en el entorno del atrio\, otras habitaciones relacionadas con el peristilo o jardín y una zona de trabajo destinada a la producción de vino. Cabe destacar\, además\, los mosaicos\, de una gran calidad\, así como los restos de pinturas murales originales. \nEn la Casa de la Hiedra se puede ver un área de trabajo con depósitos destinados a vino y varias habitaciones distribuidas alrededor de un atrio. También incluye algunas singularidades como el oecus (comedor de verano)\, de grandes proporciones con pavimentos originales de opus signinum teselado\, o un tramo de la calle (cardo maximus) que separaba las dos casas. En esta domus destacan especialmente los tres visuales. Uno que explica la producción y comercialización del vino que tanta riqueza generó para la ciudad de Baetulo\, otro que sumerge al visitante en el atrio de la domus y un tercero que nos acerca a la alimentación en época romana\, desde la materia prima hasta el final del banquete. \nAmbas casas disponen de módulos táctiles para invidentes. \nEl precio de esta actividad incluye la entrada al espacio Termas-Decumanus.\nLugar de encuentro: Casa de la Hiedra. c/ Lladó\, 55.
URL:https://www.museudebadalona.cat/es/esdeveniment/visita-guiada-a-la-casa-de-los-delfines-y-a-la-casa-de-la-hiedra-1030-h-35/
LOCATION:Casa de l’Heura\, c/ Lladó\, 55-67\, Badalona\, Barcelona\, 08911\, Espanya
CATEGORIES:Todas las actividades,Visitas guiadas
ATTACH;FMTTYPE=image/jpeg:https://www.museudebadalona.cat/wp-content/uploads/visita-guiada-Casa-dels-Dofins.jpg
END:VEVENT
END:VCALENDAR