BEGIN:VCALENDAR
VERSION:2.0
PRODID:-//Museu de Badalona - ECPv6.7.0//NONSGML v1.0//EN
CALSCALE:GREGORIAN
METHOD:PUBLISH
X-ORIGINAL-URL:https://www.museudebadalona.cat/es/
X-WR-CALDESC:Eventos para Museu de Badalona
REFRESH-INTERVAL;VALUE=DURATION:PT1H
X-Robots-Tag:noindex
X-PUBLISHED-TTL:PT1H
BEGIN:VTIMEZONE
TZID:Europe/Madrid
BEGIN:DAYLIGHT
TZOFFSETFROM:+0100
TZOFFSETTO:+0200
TZNAME:CEST
DTSTART:20260329T010000
END:DAYLIGHT
BEGIN:STANDARD
TZOFFSETFROM:+0200
TZOFFSETTO:+0100
TZNAME:CET
DTSTART:20261025T010000
END:STANDARD
END:VTIMEZONE
BEGIN:VEVENT
DTSTART;TZID=Europe/Madrid:20260513T170000
DTEND;TZID=Europe/Madrid:20260531T140000
DTSTAMP:20260422T131413
CREATED:20260119T095711Z
LAST-MODIFIED:20260410T085114Z
UID:93836-1778691600-1780236000@www.museudebadalona.cat
SUMMARY:Exposición: Los orígenes prehistóricos de la cestería
DESCRIPTION:El uso de las fibras vegetales y materiales leñosos para la confección de cuerdas y cestas se remonta a la prehistoria. Desgraciadamente\, sólo una pequeñísima parte de estos objetos ha llegado hasta nuestros días debido a su naturaleza perecedera. Sin embargo\, cuando los materiales antiguos se conservan\, muestran una gran contemporaneidad ya que expresan técnicas y métodos de fabricación que se han mantenido hasta nuestros días. \nLa exposición que presentamos es el fruto de un interesantísimo trabajo de investigación\, liderado por la UAH (Universidad de Alcalá de Henares) y la UAB (Universidad Autónoma de Barcelona)\, que a partir de los resultados de incontables investigaciones en un amplio abanico de yacimientos del período neolítico\, recupera y reivindica esta tradición técnica de orígenes milenarios. \nEntrada libre. \n  \n \n  \n  \n  \n 
URL:https://www.museudebadalona.cat/es/esdeveniment/exposicio-els-origens-prehistorics-de-la-cistelleria/
LOCATION:Museo de Badalona\, Pl. Assemblea de Catalunya\, 1\, Badalona\, Barcelona\, 08911\, Spain
CATEGORIES:Exposiciones,Todas las actividades
ATTACH;FMTTYPE=image/jpeg:https://www.museudebadalona.cat/wp-content/uploads/800x800-noticia.jpg
END:VEVENT
BEGIN:VEVENT
DTSTART;TZID=Europe/Madrid:20260516T190000
DTEND;TZID=Europe/Madrid:20260517T010000
DTSTAMP:20260422T131413
CREATED:20260319T094244Z
LAST-MODIFIED:20260319T114922Z
UID:86426-1778958000-1778979600@www.museudebadalona.cat
SUMMARY:La Noche de los Museos. Puertas abiertas a la ciudad romana de Baetulo
DESCRIPTION:El Museo de Badalona se suma a la celebración de la Noche de los Museos\, uno de los actos más populares que se organizan con motivo de la celebración del Día Internacional de los Museos (18 de mayo). \nDesde las 7 de la tarde y hasta la 1 h de la madrugada abrimos las puertas de los espacios museizados de la ciudad romana de Baetulo y le invitamos a pasearse de una manera diferente\, con calma y sin prisas\, aprovechando esta singular fiesta del patrimonio por descubrir el impresionante legado romano que se conserva en nuestra ciudad. \nEste año se podrán ver gratuitamente el espacio Termas-Decumanus\, el Jardín de Quint Licini\, la Casa de los Delfines y la Casa de la Hiedra. \nEntrada libre con aforo limitado. \n  \n 
URL:https://www.museudebadalona.cat/es/esdeveniment/la-noche-de-los-museos2026/
LOCATION:Museo de Badalona\, Pl. Assemblea de Catalunya\, 1\, Badalona\, Barcelona\, 08911\, Spain
CATEGORIES:La Nit dels Museus,La Noche de los Museos,Todas las actividades
ATTACH;FMTTYPE=image/jpeg:https://www.museudebadalona.cat/wp-content/uploads/museu-nit.jpg
END:VEVENT
BEGIN:VEVENT
DTSTART;TZID=Europe/Madrid:20260517T100000
DTEND;TZID=Europe/Madrid:20260517T113000
DTSTAMP:20260422T131413
CREATED:20260109T104224Z
LAST-MODIFIED:20260109T104224Z
UID:93397-1779012000-1779017400@www.museudebadalona.cat
SUMMARY:Visita guiada a la fábrica del Anís del Mono 10 h Catalán
DESCRIPTION:La visita a esta fábrica\, fundada por los hermanos Josep y Vicenç Bosch en 1868\, permite conocer el proceso de producción que se sigue para obtener el Anís del Mono desde hace más de 150 años\, y que ha convertido la marca en una de las más populares y apreciadas del mundo. \nDestacan\, por su valor patrimonial\, la sala de destilación\, el archivo y el despacho de la gerencia\, de estilo modernista. Conoceremos las campañas publicitarias promovidas por Vicenç Bosch -como la de los carteles realizados por Ramon Casas- y descubriremos los secretos de la característica botella de anís y de su famosa etiqueta. \n  \nLa entrada para esta actividad es personal y requiere los datos de cada uno de los asistentes (nombre\, apellidos y número de DNI). \nEl precio de la visita es de 5\,93 € por persona. \nLa entrada es gratuita para los menors de 7 años pero es imprescindible que en caso de ir acompañados de menores de edad\, nos lo notifiquéis en el siguiente correo: info@museudebadalona.cat \nEl número máximo de entradas por gestión es de 4. \nPara visitas en grupo\, es imprescindible contactar con el Museo: 934644911
URL:https://www.museudebadalona.cat/es/esdeveniment/visita-guiada-a-la-fabrica-del-anis-del-mono-10-h-catalan-5/
LOCATION:Fàbrica Anís del Mono\, c/ Eduard Maristany\, 115\, Badalona
CATEGORIES:Todas las actividades,Visitas guiadas
ATTACH;FMTTYPE=image/jpeg:https://www.museudebadalona.cat/wp-content/uploads/ANÍS.jpg
END:VEVENT
BEGIN:VEVENT
DTSTART;TZID=Europe/Madrid:20260517T103000
DTEND;TZID=Europe/Madrid:20260517T120000
DTSTAMP:20260422T131413
CREATED:20260109T104816Z
LAST-MODIFIED:20260109T104816Z
UID:93408-1779013800-1779019200@www.museudebadalona.cat
SUMMARY:Visita guiada a la fábrica del Anís del Mono 10:30 h Catalán
DESCRIPTION:La visita a esta fábrica\, fundada por los hermanos Josep y Vicenç Bosch en 1868\, permite conocer el proceso de producción que se sigue para obtener el Anís del Mono desde hace más de 150 años\, y que ha convertido la marca en una de las más populares y apreciadas del mundo. \nDestacan\, por su valor patrimonial\, la sala de destilación\, el archivo y el despacho de la gerencia\, de estilo modernista. Conoceremos las campañas publicitarias promovidas por Vicenç Bosch -como la de los carteles realizados por Ramon Casas- y descubriremos los secretos de la característica botella de anís y de su famosa etiqueta. \n  \nLa entrada para esta actividad es personal y requiere los datos de cada uno de los asistentes (nombre\, apellidos y número de DNI). \nEl precio de la visita es de 5\,93 € por persona. \nLa entrada es gratuita para los menors de 7 años pero es imprescindible que en caso de ir acompañados de menores de edad\, nos lo notifiquéis en el siguiente correo: info@museudebadalona.cat \nEl número máximo de entradas por gestión es de 4. \nPara visitas en grupo\, es imprescindible contactar con el Museo: 934644911
URL:https://www.museudebadalona.cat/es/esdeveniment/visita-guiada-a-la-fabrica-del-anis-del-mono-1030-h-catalan-5/
LOCATION:Fàbrica Anís del Mono\, c/ Eduard Maristany\, 115\, Badalona
CATEGORIES:Todas las actividades,Visitas guiadas
ATTACH;FMTTYPE=image/jpeg:https://www.museudebadalona.cat/wp-content/uploads/ANÍS.jpg
END:VEVENT
BEGIN:VEVENT
DTSTART;TZID=Europe/Madrid:20260517T113000
DTEND;TZID=Europe/Madrid:20260517T130000
DTSTAMP:20260422T131413
CREATED:20260109T110009Z
LAST-MODIFIED:20260109T110009Z
UID:93419-1779017400-1779022800@www.museudebadalona.cat
SUMMARY:Visita guiada a la fábrica del Anís del Mono 11:30 h Castellano
DESCRIPTION:La visita a esta fábrica\, fundada por los hermanos Josep y Vicenç Bosch en 1868\, permite conocer el proceso de producción que se sigue para obtener el Anís del Mono desde hace más de 150 años\, y que ha convertido la marca en una de las más populares y apreciadas del mundo. \nDestacan\, por su valor patrimonial\, la sala de destilación\, el archivo y el despacho de la gerencia\, de estilo modernista. Conoceremos las campañas publicitarias promovidas por Vicenç Bosch -como la de los carteles realizados por Ramon Casas- y descubriremos los secretos de la característica botella de anís y de su famosa etiqueta. \n  \nLa entrada para esta actividad es personal y requiere los datos de cada uno de los asistentes (nombre\, apellidos y número de DNI). \nEl precio de la visita es de 5\,93 € por persona. \nLa entrada es gratuita para los menors de 7 años pero es imprescindible que en caso de ir acompañados de menores de edad\, nos lo notifiquéis en el siguiente correo: info@museudebadalona.cat \nEl número máximo de entradas por gestión es de 4. \nPara visitas en grupo\, es imprescindible contactar con el Museo: 934644911
URL:https://www.museudebadalona.cat/es/esdeveniment/visita-guiada-a-la-fabrica-del-anis-del-mono-1130-h-castellano-4/
LOCATION:Fàbrica Anís del Mono\, c/ Eduard Maristany\, 115\, Badalona
CATEGORIES:Todas las actividades,Visitas guiadas
ATTACH;FMTTYPE=image/jpeg:https://www.museudebadalona.cat/wp-content/uploads/ANÍS.jpg
END:VEVENT
BEGIN:VEVENT
DTSTART;TZID=Europe/Madrid:20260517T120000
DTEND;TZID=Europe/Madrid:20260517T133000
DTSTAMP:20260422T131413
CREATED:20260109T111013Z
LAST-MODIFIED:20260109T111013Z
UID:93430-1779019200-1779024600@www.museudebadalona.cat
SUMMARY:Visita guiada a la fábrica del Anís del Mono 12 h Catalán
DESCRIPTION:La visita a esta fábrica\, fundada por los hermanos Josep y Vicenç Bosch en 1868\, permite conocer el proceso de producción que se sigue para obtener el Anís del Mono desde hace más de 150 años\, y que ha convertido la marca en una de las más populares y apreciadas del mundo. \nDestacan\, por su valor patrimonial\, la sala de destilación\, el archivo y el despacho de la gerencia\, de estilo modernista. Conoceremos las campañas publicitarias promovidas por Vicenç Bosch -como la de los carteles realizados por Ramon Casas- y descubriremos los secretos de la característica botella de anís y de su famosa etiqueta. \n  \nLa entrada para esta actividad es personal y requiere los datos de cada uno de los asistentes (nombre\, apellidos y número de DNI). \nEl precio de la visita es de 5\,93 € por persona. \nLa entrada es gratuita para los menors de 7 años pero es imprescindible que en caso de ir acompañados de menores de edad\, nos lo notifiquéis en el siguiente correo: info@museudebadalona.cat \nEl número máximo de entradas por gestión es de 4. \nPara visitas en grupo\, es imprescindible contactar con el Museo: 934644911
URL:https://www.museudebadalona.cat/es/esdeveniment/visita-guiada-a-la-fabrica-del-anis-del-mono-12-h-catalan-5/
LOCATION:Fàbrica Anís del Mono\, c/ Eduard Maristany\, 115\, Badalona
CATEGORIES:Todas las actividades,Visitas guiadas
ATTACH;FMTTYPE=image/jpeg:https://www.museudebadalona.cat/wp-content/uploads/ANÍS.jpg
END:VEVENT
END:VCALENDAR